BEGIN:VCALENDAR
VERSION:2.0
PRODID:-//OGV D.E.R. - ECPv6.15.20//NONSGML v1.0//EN
CALSCALE:GREGORIAN
METHOD:PUBLISH
X-WR-CALNAME:OGV D.E.R.
X-ORIGINAL-URL:https://ogv-der.de
X-WR-CALDESC:Veranstaltungen für OGV D.E.R.
REFRESH-INTERVAL;VALUE=DURATION:PT1H
X-Robots-Tag:noindex
X-PUBLISHED-TTL:PT1H
BEGIN:VTIMEZONE
TZID:Europe/Helsinki
BEGIN:DAYLIGHT
TZOFFSETFROM:+0200
TZOFFSETTO:+0300
TZNAME:EEST
DTSTART:20230326T010000
END:DAYLIGHT
BEGIN:STANDARD
TZOFFSETFROM:+0300
TZOFFSETTO:+0200
TZNAME:EET
DTSTART:20231029T010000
END:STANDARD
BEGIN:DAYLIGHT
TZOFFSETFROM:+0200
TZOFFSETTO:+0300
TZNAME:EEST
DTSTART:20240331T010000
END:DAYLIGHT
BEGIN:STANDARD
TZOFFSETFROM:+0300
TZOFFSETTO:+0200
TZNAME:EET
DTSTART:20241027T010000
END:STANDARD
BEGIN:DAYLIGHT
TZOFFSETFROM:+0200
TZOFFSETTO:+0300
TZNAME:EEST
DTSTART:20250330T010000
END:DAYLIGHT
BEGIN:STANDARD
TZOFFSETFROM:+0300
TZOFFSETTO:+0200
TZNAME:EET
DTSTART:20251026T010000
END:STANDARD
BEGIN:DAYLIGHT
TZOFFSETFROM:+0200
TZOFFSETTO:+0300
TZNAME:EEST
DTSTART:20260329T010000
END:DAYLIGHT
BEGIN:STANDARD
TZOFFSETFROM:+0300
TZOFFSETTO:+0200
TZNAME:EET
DTSTART:20261025T010000
END:STANDARD
BEGIN:DAYLIGHT
TZOFFSETFROM:+0200
TZOFFSETTO:+0300
TZNAME:EEST
DTSTART:20270328T010000
END:DAYLIGHT
BEGIN:STANDARD
TZOFFSETFROM:+0300
TZOFFSETTO:+0200
TZNAME:EET
DTSTART:20271031T010000
END:STANDARD
END:VTIMEZONE
BEGIN:VTIMEZONE
TZID:UTC
BEGIN:STANDARD
TZOFFSETFROM:+0000
TZOFFSETTO:+0000
TZNAME:UTC
DTSTART:20230101T000000
END:STANDARD
END:VTIMEZONE
BEGIN:VEVENT
DTSTART;TZID=Europe/Helsinki:20260418T150000
DTEND;TZID=Europe/Helsinki:20260418T170000
DTSTAMP:20260421T131647
CREATED:20251008T202422Z
LAST-MODIFIED:20251008T202422Z
UID:677-1776524400-1776531600@ogv-der.de
SUMMARY:Gärtnerkaffee
DESCRIPTION:
URL:https://ogv-der.de/event/gaertnerkaffee-6
LOCATION:OGV Vereinheim
CATEGORIES:Gärtnerkaffee
END:VEVENT
BEGIN:VEVENT
DTSTART;TZID=Europe/Helsinki:20260414T190000
DTEND;TZID=Europe/Helsinki:20260414T220000
DTSTAMP:20260421T131647
CREATED:20260316T220932Z
LAST-MODIFIED:20260316T220932Z
UID:733-1776193200-1776204000@ogv-der.de
SUMMARY:Kochkurs - Strudel süß und pikant
DESCRIPTION:Anmeldung erforderlich
URL:https://ogv-der.de/event/kochkurs-strudel-suess-und-pikant
END:VEVENT
BEGIN:VEVENT
DTSTART;TZID=Europe/Helsinki:20260314T140000
DTEND;TZID=Europe/Helsinki:20260314T170000
DTSTAMP:20260421T131647
CREATED:20251008T203501Z
LAST-MODIFIED:20260316T221524Z
UID:700-1773496800-1773507600@ogv-der.de
SUMMARY:Baumpflege Streuobstwiese am Böllenbach
DESCRIPTION:Jeder Interessierte ist herzlich eingeladen. \nBitte eigenes Werkzeug mitbringen.
URL:https://ogv-der.de/event/baumpflege-streuobstwiese-am-boellenbach-2
LOCATION:Streuobstwiese am Böllenbach
CATEGORIES:Arbeitseinsatz
END:VEVENT
BEGIN:VEVENT
DTSTART;TZID=Europe/Helsinki:20260313T140000
DTEND;TZID=Europe/Helsinki:20260313T170000
DTSTAMP:20260421T131647
CREATED:20251008T203427Z
LAST-MODIFIED:20260316T221510Z
UID:697-1773410400-1773421200@ogv-der.de
SUMMARY:Baumpflege Streuobstwiese am Böllenbach
DESCRIPTION:Jeder Interessierte ist herzlich eingeladen. \nBitte eigenes Werkzeug mitbringen.
URL:https://ogv-der.de/event/baumpflege-streuobstwiese-am-boellenbach
LOCATION:Streuobstwiese am Böllenbach
CATEGORIES:Arbeitseinsatz
END:VEVENT
BEGIN:VEVENT
DTSTART;TZID=Europe/Helsinki:20260306T190000
DTEND;TZID=Europe/Helsinki:20260306T190000
DTSTAMP:20260421T131647
CREATED:20251008T203546Z
LAST-MODIFIED:20251008T210528Z
UID:702-1772823600-1772823600@ogv-der.de
SUMMARY:Jahreshauptversammlung
DESCRIPTION:
URL:https://ogv-der.de/event/jahreshauptversammlung
LOCATION:Zur Grenz
END:VEVENT
BEGIN:VEVENT
DTSTART;TZID=Europe/Helsinki:20260301T090000
DTEND;TZID=Europe/Helsinki:20260301T170000
DTSTAMP:20260421T131647
CREATED:20260304T232255Z
LAST-MODIFIED:20260304T232255Z
UID:730-1772355600-1772384400@ogv-der.de
SUMMARY:Ostereiermarkt 2026
DESCRIPTION:Bewirtung durch den OGD D.E.R. mit Osterschinken im Brotteig\, Schnittlauchbrot\, Rettich\, Radieschen und Getränken
URL:https://ogv-der.de/event/ostereiermarkt-2026
LOCATION:Turnhalle Tapfheim
END:VEVENT
BEGIN:VEVENT
DTSTART;TZID=Europe/Helsinki:20260110T120000
DTEND;TZID=Europe/Helsinki:20260110T120000
DTSTAMP:20260421T131647
CREATED:20251008T203634Z
LAST-MODIFIED:20251008T210703Z
UID:704-1768046400-1768046400@ogv-der.de
SUMMARY:Krautausgabe und Krautessen
DESCRIPTION:
URL:https://ogv-der.de/event/krautausgabe-und-krautessen
LOCATION:OGV Vereinheim
END:VEVENT
BEGIN:VEVENT
DTSTART;TZID=Europe/Helsinki:20251122T160000
DTEND;TZID=Europe/Helsinki:20251122T160000
DTSTAMP:20260421T131647
CREATED:20241212T220327Z
LAST-MODIFIED:20241212T220825Z
UID:551-1763827200-1763827200@ogv-der.de
SUMMARY:Gärtnerweihnacht
DESCRIPTION:
URL:https://ogv-der.de/event/gaertnerweihnacht-2025
LOCATION:OGV Vereinheim
CATEGORIES:Gärtnerweihnacht
END:VEVENT
BEGIN:VEVENT
DTSTART;TZID=Europe/Helsinki:20251025T130000
DTEND;TZID=Europe/Helsinki:20251025T170000
DTSTAMP:20260421T131647
CREATED:20241212T220213Z
LAST-MODIFIED:20241212T220213Z
UID:549-1761397200-1761411600@ogv-der.de
SUMMARY:Krauteinhobeln
DESCRIPTION:
URL:https://ogv-der.de/event/krauteinhobeln
LOCATION:OGV Vereinheim
END:VEVENT
BEGIN:VEVENT
DTSTART;TZID=Europe/Helsinki:20251018T150000
DTEND;TZID=Europe/Helsinki:20251018T170000
DTSTAMP:20260421T131647
CREATED:20241212T220133Z
LAST-MODIFIED:20251012T212039Z
UID:547-1760799600-1760806800@ogv-der.de
SUMMARY:Gärtnerkaffee Oktober mit Pflanzenbörse
DESCRIPTION:Letztes Gärtnerkaffee im Jahr 2025 \nDiese Jahr zum ersten Mal mit Pflanzenbörse
URL:https://ogv-der.de/event/gaertnerkaffee-oktober-2025
LOCATION:OGV Vereinheim
CATEGORIES:Gärtnerkaffee
END:VEVENT
BEGIN:VEVENT
DTSTART;TZID=Europe/Helsinki:20250919T180000
DTEND;TZID=Europe/Helsinki:20250919T210000
DTSTAMP:20260421T131647
CREATED:20250416T075112Z
LAST-MODIFIED:20250912T111931Z
UID:597-1758304800-1758315600@ogv-der.de
SUMMARY:OGV Ehrungsabend
DESCRIPTION:Ehrungsabend für die diesjährigen Jubilare des OGV.
URL:https://ogv-der.de/event/ogv-ehrungsabend
LOCATION:Schloss Tapfheim\, 86660
END:VEVENT
BEGIN:VEVENT
DTSTART;TZID=Europe/Helsinki:20250913T150000
DTEND;TZID=Europe/Helsinki:20250913T170000
DTSTAMP:20260421T131647
CREATED:20241212T220057Z
LAST-MODIFIED:20250906T210610Z
UID:545-1757775600-1757782800@ogv-der.de
SUMMARY:Gärtnerkaffee September
DESCRIPTION:
URL:https://ogv-der.de/event/gaertnerkaffee-september-2025
LOCATION:OGV Vereinheim
CATEGORIES:Gärtnerkaffee
END:VEVENT
BEGIN:VEVENT
DTSTART;TZID=Europe/Helsinki:20250823T150000
DTEND;TZID=Europe/Helsinki:20250823T170000
DTSTAMP:20260421T131647
CREATED:20241212T220021Z
LAST-MODIFIED:20250818T211749Z
UID:543-1755961200-1755968400@ogv-der.de
SUMMARY:Gärtnerkaffee August
DESCRIPTION:
URL:https://ogv-der.de/event/gaertnerkaffee-august-2025
LOCATION:OGV Vereinheim
CATEGORIES:Gärtnerkaffee
END:VEVENT
BEGIN:VEVENT
DTSTART;TZID=Europe/Helsinki:20250822T150000
DTEND;TZID=Europe/Helsinki:20251008T170000
DTSTAMP:20260421T131647
CREATED:20251008T202847Z
LAST-MODIFIED:20251008T202847Z
UID:685-1755874800-1759942800@ogv-der.de
SUMMARY:Gärtnerkaffee
DESCRIPTION:
URL:https://ogv-der.de/event/gaertnerkaffee-9
LOCATION:OGV Vereinheim
END:VEVENT
BEGIN:VEVENT
DTSTART;TZID=Europe/Helsinki:20250814T090000
DTEND;TZID=Europe/Helsinki:20250814T090000
DTSTAMP:20260421T131647
CREATED:20241212T221550Z
LAST-MODIFIED:20241212T221600Z
UID:570-1755162000-1755162000@ogv-der.de
SUMMARY:Kräuterbüschel binden
DESCRIPTION:Kräuter sammeln ab 09:00 \nKräuterbüschel binden im OGV Vereinsheim ab 13:00
URL:https://ogv-der.de/event/kraeuterbueschel-binden-2
LOCATION:OGV Vereinheim
END:VEVENT
BEGIN:VEVENT
DTSTART;TZID=Europe/Helsinki:20250621T150000
DTEND;TZID=Europe/Helsinki:20250621T170000
DTSTAMP:20260421T131647
CREATED:20241212T215827Z
LAST-MODIFIED:20241212T220925Z
UID:539-1750518000-1750525200@ogv-der.de
SUMMARY:Gärtnerkaffee Juni
DESCRIPTION:
URL:https://ogv-der.de/event/gaertnerkaffee-juni-2025
LOCATION:OGV Vereinheim
CATEGORIES:Gärtnerkaffee
END:VEVENT
BEGIN:VEVENT
DTSTART;TZID=Europe/Helsinki:20250510T140000
DTEND;TZID=Europe/Helsinki:20250510T170000
DTSTAMP:20260421T131647
CREATED:20241212T215730Z
LAST-MODIFIED:20250416T074727Z
UID:536-1746885600-1746896400@ogv-der.de
SUMMARY:Gärtnerkaffee mit Pflanzenbörse
DESCRIPTION:Beginn um 14:00. Eine Stunde früher als ein gewöhnliches Gärtnerkaffee.
URL:https://ogv-der.de/event/gaertnerkaffee-mai2025
LOCATION:OGV Vereinheim
CATEGORIES:Gärtnerkaffee
END:VEVENT
BEGIN:VEVENT
DTSTART;TZID=Europe/Helsinki:20250426T150000
DTEND;TZID=Europe/Helsinki:20250426T170000
DTSTAMP:20260421T131647
CREATED:20241212T215318Z
LAST-MODIFIED:20241212T221028Z
UID:531-1745679600-1745686800@ogv-der.de
SUMMARY:Gärtnerkaffee April
DESCRIPTION:Erstes Gärtnerkaffee im Jahr 2025
URL:https://ogv-der.de/event/gaertnerkaffee-april-2025
LOCATION:OGV Vereinheim
CATEGORIES:Gärtnerkaffee
END:VEVENT
BEGIN:VEVENT
DTSTART;TZID=Europe/Helsinki:20250328T190000
DTEND;TZID=Europe/Helsinki:20250328T220000
DTSTAMP:20260421T131647
CREATED:20241212T220718Z
LAST-MODIFIED:20241212T220718Z
UID:555-1743188400-1743199200@ogv-der.de
SUMMARY:OGV-D.E.R. Jahreshauptversammlung 2025
DESCRIPTION:
URL:https://ogv-der.de/event/ogv-d-e-r-jahreshauptversammlung-2025
LOCATION:Zur Grenz
END:VEVENT
BEGIN:VEVENT
DTSTART;TZID=Europe/Helsinki:20250323T100000
DTEND;TZID=Europe/Helsinki:20250323T170000
DTSTAMP:20260421T131647
CREATED:20241212T221315Z
LAST-MODIFIED:20241212T222214Z
UID:567-1742724000-1742749200@ogv-der.de
SUMMARY:Ostereiermarkt
DESCRIPTION:Mit OGV-Osterbrunnen
URL:https://ogv-der.de/event/ostereiermarkt
LOCATION:Turnhalle Tapfheim
END:VEVENT
BEGIN:VEVENT
DTSTART;TZID=Europe/Helsinki:20250111T150000
DTEND;TZID=Europe/Helsinki:20250111T160000
DTSTAMP:20260421T131647
CREATED:20241027T195759Z
LAST-MODIFIED:20241027T200104Z
UID:503-1736607600-1736611200@ogv-der.de
SUMMARY:Krautausgabe
DESCRIPTION:
URL:https://ogv-der.de/event/krautausgabe
LOCATION:OGV Vereinheim
END:VEVENT
BEGIN:VEVENT
DTSTART;TZID=UTC:20241123T160000
DTEND;TZID=UTC:20241123T210000
DTSTAMP:20260421T131647
CREATED:20240515T203333Z
LAST-MODIFIED:20241212T220808Z
UID:247-1732377600-1732395600@ogv-der.de
SUMMARY:Gärtnerweihnacht
DESCRIPTION:
URL:https://ogv-der.de/event/gaertnerweihnacht
CATEGORIES:Gärtnerweihnacht
END:VEVENT
BEGIN:VEVENT
DTSTART;TZID=UTC:20241019T150000
DTEND;TZID=UTC:20241019T170000
DTSTAMP:20260421T131647
CREATED:20240730T185746Z
LAST-MODIFIED:20240730T200258Z
UID:384-1729350000-1729357200@ogv-der.de
SUMMARY:Gärtnerkaffee
DESCRIPTION:Das letzte Gärtnerkaffee 2024 vor der Winterpause.
URL:https://ogv-der.de/event/gaertnerkaffee-5
LOCATION:OGV Vereinheim
END:VEVENT
BEGIN:VEVENT
DTSTART;TZID=UTC:20240921T150000
DTEND;TZID=UTC:20240921T170000
DTSTAMP:20260421T131647
CREATED:20240730T185657Z
LAST-MODIFIED:20240730T200309Z
UID:382-1726930800-1726938000@ogv-der.de
SUMMARY:Gärtnerkaffee
DESCRIPTION:
URL:https://ogv-der.de/event/gaertnerkaffee-4
LOCATION:OGV Vereinheim
END:VEVENT
BEGIN:VEVENT
DTSTART;TZID=UTC:20240907T130000
DTEND;TZID=UTC:20240907T160000
DTSTAMP:20260421T131647
CREATED:20240730T190311Z
LAST-MODIFIED:20240730T190311Z
UID:388-1725714000-1725724800@ogv-der.de
SUMMARY:Ferienprogramm Gruppe 2
DESCRIPTION:Kreative Stelen-Gestaltung mit Holz und Farbe
URL:https://ogv-der.de/event/ferienprogramm-gruppe-2
LOCATION:OGV Vereinheim
END:VEVENT
BEGIN:VEVENT
DTSTART;TZID=Europe/Helsinki:20240907T090000
DTEND;TZID=Europe/Helsinki:20240907T120000
DTSTAMP:20260421T131647
CREATED:20240730T190143Z
LAST-MODIFIED:20240730T221518Z
UID:386-1725699600-1725710400@ogv-der.de
SUMMARY:Ferienprogramm Gruppe 1
DESCRIPTION:Kreative Stelen-Gestaltung mit Holz und Farbe
URL:https://ogv-der.de/event/ferienprogramm-gruppe-1
LOCATION:OGV Vereinheim
END:VEVENT
BEGIN:VEVENT
DTSTART;TZID=UTC:20240814T090000
DTEND;TZID=UTC:20240814T170000
DTSTAMP:20260421T131647
CREATED:20240730T190634Z
LAST-MODIFIED:20240730T190641Z
UID:391-1723626000-1723654800@ogv-der.de
SUMMARY:Kräuterbüschel binden
DESCRIPTION:09:00 Treffpunkt an der Vitushalle zur Kräuter-Ernte \n13:00 Binden im OGV Vereinsheim \n  \nBenötigt werden ca. 120 Kräuterbüschel
URL:https://ogv-der.de/event/kraeuterbueschel-binden
LOCATION:OGV Vereinheim
END:VEVENT
BEGIN:VEVENT
DTSTART;TZID=Europe/Helsinki:20240726T150000
DTEND;TZID=Europe/Helsinki:20240726T170000
DTSTAMP:20260421T131647
CREATED:20241212T215904Z
LAST-MODIFIED:20241212T215904Z
UID:541-1722006000-1722013200@ogv-der.de
SUMMARY:Gärtnerkaffee Juli 2025
DESCRIPTION:
URL:https://ogv-der.de/event/gaertnerkaffee-juli-2025
LOCATION:OGV Vereinheim
CATEGORIES:Gärtnerkaffee
END:VEVENT
BEGIN:VEVENT
DTSTART;TZID=UTC:20240720T150000
DTEND;TZID=UTC:20240720T180000
DTSTAMP:20260421T131647
CREATED:20240517T204121Z
LAST-MODIFIED:20240517T204121Z
UID:360-1721487600-1721498400@ogv-der.de
SUMMARY:Gärtnerkaffee
DESCRIPTION:
URL:https://ogv-der.de/event/gaertnerkaffee-2
END:VEVENT
BEGIN:VEVENT
DTSTART;TZID=UTC:20240615T150000
DTEND;TZID=UTC:20240615T180000
DTSTAMP:20260421T131647
CREATED:20240517T204036Z
LAST-MODIFIED:20240517T204036Z
UID:358-1718463600-1718474400@ogv-der.de
SUMMARY:Gärtnerkaffee
DESCRIPTION:
URL:https://ogv-der.de/event/gaertnerkaffee
END:VEVENT
END:VCALENDAR