BEGIN:VCALENDAR
VERSION:2.0
PRODID:-//OGV D.E.R. - ECPv6.15.20//NONSGML v1.0//EN
CALSCALE:GREGORIAN
METHOD:PUBLISH
X-WR-CALNAME:OGV D.E.R.
X-ORIGINAL-URL:https://ogv-der.de
X-WR-CALDESC:Veranstaltungen für OGV D.E.R.
REFRESH-INTERVAL;VALUE=DURATION:PT1H
X-Robots-Tag:noindex
X-PUBLISHED-TTL:PT1H
BEGIN:VTIMEZONE
TZID:Europe/Helsinki
BEGIN:DAYLIGHT
TZOFFSETFROM:+0200
TZOFFSETTO:+0300
TZNAME:EEST
DTSTART:20250330T010000
END:DAYLIGHT
BEGIN:STANDARD
TZOFFSETFROM:+0300
TZOFFSETTO:+0200
TZNAME:EET
DTSTART:20251026T010000
END:STANDARD
BEGIN:DAYLIGHT
TZOFFSETFROM:+0200
TZOFFSETTO:+0300
TZNAME:EEST
DTSTART:20260329T010000
END:DAYLIGHT
BEGIN:STANDARD
TZOFFSETFROM:+0300
TZOFFSETTO:+0200
TZNAME:EET
DTSTART:20261025T010000
END:STANDARD
BEGIN:DAYLIGHT
TZOFFSETFROM:+0200
TZOFFSETTO:+0300
TZNAME:EEST
DTSTART:20270328T010000
END:DAYLIGHT
BEGIN:STANDARD
TZOFFSETFROM:+0300
TZOFFSETTO:+0200
TZNAME:EET
DTSTART:20271031T010000
END:STANDARD
END:VTIMEZONE
BEGIN:VEVENT
DTSTART;TZID=Europe/Helsinki:20260602T150000
DTEND;TZID=Europe/Helsinki:20260602T180000
DTSTAMP:20260421T161631
CREATED:20260316T221050Z
LAST-MODIFIED:20260316T221050Z
UID:735-1780412400-1780423200@ogv-der.de
SUMMARY:Weidenbindekurs (Nachmittag)
DESCRIPTION:Anmeldung erforderlich!
URL:https://ogv-der.de/event/weidenbindekurs-nachmittag
END:VEVENT
BEGIN:VEVENT
DTSTART;TZID=Europe/Helsinki:20260602T183000
DTEND;TZID=Europe/Helsinki:20260602T213000
DTSTAMP:20260421T161631
CREATED:20260316T221129Z
LAST-MODIFIED:20260316T221129Z
UID:737-1780425000-1780435800@ogv-der.de
SUMMARY:Weidenbindekurs (Abend)
DESCRIPTION:Anmeldung erforderlich!
URL:https://ogv-der.de/event/weidenbindekurs-abend
END:VEVENT
END:VCALENDAR