BEGIN:VCALENDAR
VERSION:2.0
PRODID:-//OGV D.E.R. - ECPv6.15.20//NONSGML v1.0//EN
CALSCALE:GREGORIAN
METHOD:PUBLISH
X-WR-CALNAME:OGV D.E.R.
X-ORIGINAL-URL:https://ogv-der.de
X-WR-CALDESC:Veranstaltungen für OGV D.E.R.
REFRESH-INTERVAL;VALUE=DURATION:PT1H
X-Robots-Tag:noindex
X-PUBLISHED-TTL:PT1H
BEGIN:VTIMEZONE
TZID:Europe/Helsinki
BEGIN:DAYLIGHT
TZOFFSETFROM:+0200
TZOFFSETTO:+0300
TZNAME:EEST
DTSTART:20250330T010000
END:DAYLIGHT
BEGIN:STANDARD
TZOFFSETFROM:+0300
TZOFFSETTO:+0200
TZNAME:EET
DTSTART:20251026T010000
END:STANDARD
BEGIN:DAYLIGHT
TZOFFSETFROM:+0200
TZOFFSETTO:+0300
TZNAME:EEST
DTSTART:20260329T010000
END:DAYLIGHT
BEGIN:STANDARD
TZOFFSETFROM:+0300
TZOFFSETTO:+0200
TZNAME:EET
DTSTART:20261025T010000
END:STANDARD
BEGIN:DAYLIGHT
TZOFFSETFROM:+0200
TZOFFSETTO:+0300
TZNAME:EEST
DTSTART:20270328T010000
END:DAYLIGHT
BEGIN:STANDARD
TZOFFSETFROM:+0300
TZOFFSETTO:+0200
TZNAME:EET
DTSTART:20271031T010000
END:STANDARD
END:VTIMEZONE
BEGIN:VEVENT
DTSTART;TZID=Europe/Helsinki:20260906T000000
DTEND;TZID=Europe/Helsinki:20260906T235959
DTSTAMP:20260421T194745
CREATED:20260316T221655Z
LAST-MODIFIED:20260316T221655Z
UID:745-1788652800-1788739199@ogv-der.de
SUMMARY:Festumzug zum Tapfheimer 150-jährigen Feuerwehrfest
DESCRIPTION:
URL:https://ogv-der.de/event/festumzug-zum-tapfheimer-150-jaehrigen-feuerwehrfest
END:VEVENT
END:VCALENDAR